Package: orthogene Version: 1.13.0 Command: /Library/Frameworks/R.framework/Resources/bin/R CMD INSTALL orthogene StartedAt: 2025-02-09 15:43:14 -0500 (Sun, 09 Feb 2025) EndedAt: 2025-02-09 15:43:29 -0500 (Sun, 09 Feb 2025) EllapsedTime: 15.5 seconds RetCode: 0 Status: OK