Package: orthogene Version: 1.13.0 Command: /home/biocbuild/bbs-3.21-bioc/R/bin/R CMD check --install=check:orthogene.install-out.txt --library=/home/biocbuild/bbs-3.21-bioc/R/site-library --timings orthogene_1.13.0.tar.gz StartedAt: 2025-02-10 01:00:11 -0500 (Mon, 10 Feb 2025) EndedAt: 2025-02-10 01:13:22 -0500 (Mon, 10 Feb 2025) EllapsedTime: 790.5 seconds RetCode: 0 Status: OK CheckDir: orthogene.Rcheck Warnings: 0