Package: orthos Version: 1.5.0 Command: /home/biocbuild/R/R/bin/R CMD build --keep-empty-dirs --no-resave-data orthos StartedAt: 2025-01-29 01:04:57 -0000 (Wed, 29 Jan 2025) EndedAt: 2025-01-29 01:08:23 -0000 (Wed, 29 Jan 2025) EllapsedTime: 205.4 seconds RetCode: 1 Status: ERROR PackageFile: None PackageFileSize: NA