Package: orthos Version: 1.5.0 Command: /home/biocbuild/bbs-3.21-bioc/R/bin/R CMD check --install=check:orthos.install-out.txt --library=/home/biocbuild/bbs-3.21-bioc/R/site-library --timings orthos_1.5.0.tar.gz StartedAt: 2025-02-13 01:01:08 -0500 (Thu, 13 Feb 2025) EndedAt: 2025-02-13 01:18:03 -0500 (Thu, 13 Feb 2025) EllapsedTime: 1014.8 seconds RetCode: 0 Status: OK CheckDir: orthos.Rcheck Warnings: 0