Package: orthos Version: 1.5.0 Command: rm -rf orthos.buildbin-libdir && mkdir orthos.buildbin-libdir && E:\biocbuild\bbs-3.21-bioc\R\bin\R.exe CMD INSTALL --build --library=orthos.buildbin-libdir orthos_1.5.0.tar.gz StartedAt: 2025-02-10 08:20:12 -0500 (Mon, 10 Feb 2025) EndedAt: 2025-02-10 08:20:51 -0500 (Mon, 10 Feb 2025) EllapsedTime: 39.7 seconds RetCode: 0 Status: OK PackageFile: orthos_1.5.0.zip PackageFileSize: 1.992 MiB