Package: orthos Version: 1.5.0 Command: E:\biocbuild\bbs-3.21-bioc\R\bin\R.exe CMD INSTALL orthos StartedAt: 2025-02-12 16:57:39 -0500 (Wed, 12 Feb 2025) EndedAt: 2025-02-12 16:58:15 -0500 (Wed, 12 Feb 2025) EllapsedTime: 35.8 seconds RetCode: 0 Status: OK