Package: pRoloc Version: 1.47.1 Command: rm -rf pRoloc.buildbin-libdir && mkdir pRoloc.buildbin-libdir && /Users/biocbuild/BBS/utils/build-universal.sh pRoloc_1.47.1.tar.gz /Library/Frameworks/R.framework/Resources/bin/R pRoloc.buildbin-libdir StartedAt: 2025-02-03 23:01:31 -0500 (Mon, 03 Feb 2025) EndedAt: 2025-02-03 23:02:03 -0500 (Mon, 03 Feb 2025) EllapsedTime: 31.7 seconds RetCode: 0 Status: OK PackageFile: pRoloc_1.47.1.tgz PackageFileSize: 10.32 MiB