Package: pRoloc Version: 1.47.1 Command: /Library/Frameworks/R.framework/Resources/bin/R CMD build --keep-empty-dirs --no-resave-data pRoloc StartedAt: 2025-02-09 17:17:36 -0500 (Sun, 09 Feb 2025) EndedAt: 2025-02-09 17:19:28 -0500 (Sun, 09 Feb 2025) EllapsedTime: 112.3 seconds RetCode: 1 Status: ERROR PackageFile: None PackageFileSize: NA