Package: pRoloc Version: 1.47.1 Command: /Library/Frameworks/R.framework/Resources/bin/R CMD check --install=check:pRoloc.install-out.txt --library=/Library/Frameworks/R.framework/Resources/library --no-vignettes --timings pRoloc_1.47.1.tar.gz StartedAt: 2025-02-03 21:21:22 -0500 (Mon, 03 Feb 2025) EndedAt: 2025-02-03 21:25:19 -0500 (Mon, 03 Feb 2025) EllapsedTime: 236.8 seconds RetCode: 0 Status: OK CheckDir: pRoloc.Rcheck Warnings: 0