Package: pRoloc Version: 1.47.1 Command: /home/biocbuild/R/R/bin/R CMD INSTALL pRoloc StartedAt: 2025-01-29 20:25:16 -0000 (Wed, 29 Jan 2025) EndedAt: 2025-01-29 20:27:16 -0000 (Wed, 29 Jan 2025) EllapsedTime: 119.3 seconds RetCode: 0 Status: OK