Package: pRoloc Version: 1.47.1 Command: rm -rf pRoloc.buildbin-libdir && mkdir pRoloc.buildbin-libdir && /Users/biocbuild/BBS/utils/build-universal.sh pRoloc_1.47.1.tar.gz /Library/Frameworks/R.framework/Resources/bin/R pRoloc.buildbin-libdir StartedAt: 2025-02-10 01:09:11 -0500 (Mon, 10 Feb 2025) EndedAt: 2025-02-10 01:11:01 -0500 (Mon, 10 Feb 2025) EllapsedTime: 109.4 seconds RetCode: 0 Status: OK PackageFile: pRoloc_1.47.1.tgz PackageFileSize: 10.3 MiB