Package: pRoloc Version: 1.47.1 Command: /Library/Frameworks/R.framework/Resources/bin/R CMD build --keep-empty-dirs --no-resave-data pRoloc StartedAt: 2025-02-09 18:01:10 -0500 (Sun, 09 Feb 2025) EndedAt: 2025-02-09 18:08:03 -0500 (Sun, 09 Feb 2025) EllapsedTime: 412.9 seconds RetCode: 0 Status: OK PackageFile: pRoloc_1.47.1.tar.gz PackageFileSize: 10.54 MiB