Package: pRoloc Version: 1.47.1 Command: /home/biocbuild/bbs-3.21-bioc/R/bin/R CMD build --keep-empty-dirs --no-resave-data pRoloc StartedAt: 2025-02-09 18:43:54 -0500 (Sun, 09 Feb 2025) EndedAt: 2025-02-09 18:50:10 -0500 (Sun, 09 Feb 2025) EllapsedTime: 375.4 seconds RetCode: 0 Status: OK PackageFile: pRoloc_1.47.1.tar.gz PackageFileSize: 10.31 MiB