Package: pRoloc Version: 1.47.1 Command: chmod a+r pRoloc -R && E:\biocbuild\bbs-3.21-bioc\R\bin\R.exe CMD build --keep-empty-dirs --no-resave-data pRoloc StartedAt: 2025-02-04 20:55:34 -0500 (Tue, 04 Feb 2025) EndedAt: 2025-02-04 21:07:12 -0500 (Tue, 04 Feb 2025) EllapsedTime: 698.5 seconds RetCode: 0 Status: OK PackageFile: pRoloc_1.47.1.tar.gz PackageFileSize: 6.257 MiB