Package: pRoloc Version: 1.47.1 Command: E:\biocbuild\bbs-3.21-bioc\R\bin\R.exe CMD check --no-multiarch --install=check:pRoloc.install-out.txt --library=E:\biocbuild\bbs-3.21-bioc\R\library --no-vignettes --timings pRoloc_1.47.1.tar.gz StartedAt: 2025-02-05 04:42:33 -0500 (Wed, 05 Feb 2025) EndedAt: 2025-02-05 04:55:13 -0500 (Wed, 05 Feb 2025) EllapsedTime: 760.8 seconds RetCode: 0 Status: OK CheckDir: pRoloc.Rcheck Warnings: 0