Package: pRoloc Version: 1.47.1 Command: E:\biocbuild\bbs-3.21-bioc\R\bin\R.exe CMD INSTALL pRoloc StartedAt: 2025-02-04 16:40:38 -0500 (Tue, 04 Feb 2025) EndedAt: 2025-02-04 16:45:31 -0500 (Tue, 04 Feb 2025) EllapsedTime: 293.0 seconds RetCode: 0 Status: OK