Package: pRolocGUI Version: 2.17.0 Command: /Library/Frameworks/R.framework/Resources/bin/R CMD build --keep-empty-dirs --no-resave-data pRolocGUI StartedAt: 2025-02-04 17:17:52 -0500 (Tue, 04 Feb 2025) EndedAt: 2025-02-04 17:18:22 -0500 (Tue, 04 Feb 2025) EllapsedTime: 29.4 seconds RetCode: 0 Status: OK PackageFile: pRolocGUI_2.17.0.tar.gz PackageFileSize: 2.992 MiB