Package: pRolocGUI Version: 2.17.0 Command: /Library/Frameworks/R.framework/Resources/bin/R CMD check --install=check:pRolocGUI.install-out.txt --library=/Library/Frameworks/R.framework/Resources/library --no-vignettes --timings pRolocGUI_2.17.0.tar.gz StartedAt: 2025-02-09 20:45:15 -0500 (Sun, 09 Feb 2025) EndedAt: 2025-02-09 20:47:32 -0500 (Sun, 09 Feb 2025) EllapsedTime: 137.6 seconds RetCode: 0 Status: OK CheckDir: pRolocGUI.Rcheck Warnings: 0