Package: pRolocGUI Version: 2.17.0 Command: /home/biocbuild/R/R/bin/R CMD build --keep-empty-dirs --no-resave-data pRolocGUI StartedAt: 2025-01-29 01:23:03 -0000 (Wed, 29 Jan 2025) EndedAt: 2025-01-29 01:24:42 -0000 (Wed, 29 Jan 2025) EllapsedTime: 99.1 seconds RetCode: 0 Status: OK PackageFile: pRolocGUI_2.17.0.tar.gz PackageFileSize: 3.054 MiB