Package: pRolocGUI Version: 2.17.0 Command: /home/biocbuild/R/R/bin/R CMD check --install=check:pRolocGUI.install-out.txt --library=/home/biocbuild/R/R/site-library --no-vignettes --timings pRolocGUI_2.17.0.tar.gz StartedAt: 2025-01-28 14:05:27 -0000 (Tue, 28 Jan 2025) EndedAt: 2025-01-28 14:13:26 -0000 (Tue, 28 Jan 2025) EllapsedTime: 479.4 seconds RetCode: 0 Status: WARNINGS CheckDir: pRolocGUI.Rcheck Warnings: 5