Package: pRolocGUI Version: 2.17.0 Command: /home/biocbuild/R/R/bin/R CMD INSTALL pRolocGUI StartedAt: 2025-01-29 20:27:20 -0000 (Wed, 29 Jan 2025) EndedAt: 2025-01-29 20:28:31 -0000 (Wed, 29 Jan 2025) EllapsedTime: 70.9 seconds RetCode: 0 Status: OK