Package: pRolocGUI Version: 2.17.0 Command: /Library/Frameworks/R.framework/Resources/bin/R CMD INSTALL pRolocGUI StartedAt: 2025-02-03 15:43:29 -0500 (Mon, 03 Feb 2025) EndedAt: 2025-02-03 15:44:34 -0500 (Mon, 03 Feb 2025) EllapsedTime: 65.1 seconds RetCode: 0 Status: OK