Package: pRolocGUI Version: 2.17.0 Command: /home/biocbuild/bbs-3.21-bioc/R/bin/R CMD check --install=check:pRolocGUI.install-out.txt --library=/home/biocbuild/bbs-3.21-bioc/R/site-library --timings pRolocGUI_2.17.0.tar.gz StartedAt: 2025-02-10 01:29:43 -0500 (Mon, 10 Feb 2025) EndedAt: 2025-02-10 01:36:16 -0500 (Mon, 10 Feb 2025) EllapsedTime: 392.5 seconds RetCode: 0 Status: OK CheckDir: pRolocGUI.Rcheck Warnings: 0