Package: pRolocGUI Version: 2.17.0 Command: /home/biocbuild/bbs-3.21-bioc/R/bin/R CMD INSTALL pRolocGUI StartedAt: 2025-02-04 15:35:54 -0500 (Tue, 04 Feb 2025) EndedAt: 2025-02-04 15:36:44 -0500 (Tue, 04 Feb 2025) EllapsedTime: 50.6 seconds RetCode: 0 Status: OK