Package: pRolocGUI Version: 2.17.0 Command: rm -rf pRolocGUI.buildbin-libdir && mkdir pRolocGUI.buildbin-libdir && E:\biocbuild\bbs-3.21-bioc\R\bin\R.exe CMD INSTALL --build --library=pRolocGUI.buildbin-libdir pRolocGUI_2.17.0.tar.gz StartedAt: 2025-02-04 08:38:29 -0500 (Tue, 04 Feb 2025) EndedAt: 2025-02-04 08:39:33 -0500 (Tue, 04 Feb 2025) EllapsedTime: 64.7 seconds RetCode: 0 Status: OK PackageFile: pRolocGUI_2.17.0.zip PackageFileSize: 1.774 MiB