Package: pRolocGUI Version: 2.17.0 Command: chmod a+r pRolocGUI -R && E:\biocbuild\bbs-3.21-bioc\R\bin\R.exe CMD build --keep-empty-dirs --no-resave-data pRolocGUI StartedAt: 2025-02-03 21:06:18 -0500 (Mon, 03 Feb 2025) EndedAt: 2025-02-03 21:07:50 -0500 (Mon, 03 Feb 2025) EllapsedTime: 92.0 seconds RetCode: 0 Status: OK PackageFile: pRolocGUI_2.17.0.tar.gz PackageFileSize: 2.991 MiB