Package: packFinder Version: 1.19.0 Command: rm -rf packFinder.buildbin-libdir && mkdir packFinder.buildbin-libdir && /Users/biocbuild/BBS/utils/build-universal.sh packFinder_1.19.0.tar.gz /Library/Frameworks/R.framework/Resources/bin/R packFinder.buildbin-libdir StartedAt: 2025-02-09 22:24:33 -0500 (Sun, 09 Feb 2025) EndedAt: 2025-02-09 22:24:35 -0500 (Sun, 09 Feb 2025) EllapsedTime: 2.0 seconds RetCode: 0 Status: OK PackageFile: packFinder_1.19.0.tgz PackageFileSize: 1.164 MiB