Package: packFinder Version: 1.19.0 Command: /Library/Frameworks/R.framework/Resources/bin/R CMD build --keep-empty-dirs --no-resave-data packFinder StartedAt: 2025-02-09 17:11:45 -0500 (Sun, 09 Feb 2025) EndedAt: 2025-02-09 17:11:53 -0500 (Sun, 09 Feb 2025) EllapsedTime: 7.1 seconds RetCode: 0 Status: OK PackageFile: packFinder_1.19.0.tar.gz PackageFileSize: 1.132 MiB