Package: packFinder Version: 1.19.0 Command: /home/biocbuild/bbs-3.21-bioc/R/bin/R CMD check --install=check:packFinder.install-out.txt --library=/home/biocbuild/bbs-3.21-bioc/R/site-library --timings packFinder_1.19.0.tar.gz StartedAt: 2025-02-10 01:02:00 -0500 (Mon, 10 Feb 2025) EndedAt: 2025-02-10 01:02:49 -0500 (Mon, 10 Feb 2025) EllapsedTime: 49.1 seconds RetCode: 0 Status: OK CheckDir: packFinder.Rcheck Warnings: 0