Package: packFinder Version: 1.19.0 Command: rm -rf packFinder.buildbin-libdir && mkdir packFinder.buildbin-libdir && E:\biocbuild\bbs-3.21-bioc\R\bin\R.exe CMD INSTALL --build --library=packFinder.buildbin-libdir packFinder_1.19.0.tar.gz StartedAt: 2025-02-10 08:20:35 -0500 (Mon, 10 Feb 2025) EndedAt: 2025-02-10 08:20:54 -0500 (Mon, 10 Feb 2025) EllapsedTime: 18.6 seconds RetCode: 0 Status: OK PackageFile: packFinder_1.19.0.zip PackageFileSize: 1.167 MiB