Package: packFinder Version: 1.19.0 Command: E:\biocbuild\bbs-3.21-bioc\R\bin\R.exe CMD INSTALL packFinder StartedAt: 2025-02-09 15:52:56 -0500 (Sun, 09 Feb 2025) EndedAt: 2025-02-09 15:53:15 -0500 (Sun, 09 Feb 2025) EllapsedTime: 19.3 seconds RetCode: 0 Status: OK