Package: padma Version: 1.17.0 Command: /home/biocbuild/R/R/bin/R CMD build --keep-empty-dirs --no-resave-data padma StartedAt: 2025-01-29 01:07:50 -0000 (Wed, 29 Jan 2025) EndedAt: 2025-01-29 01:09:08 -0000 (Wed, 29 Jan 2025) EllapsedTime: 78.1 seconds RetCode: 0 Status: OK PackageFile: padma_1.17.0.tar.gz PackageFileSize: 1.07 MiB