Package: padma Version: 1.17.0 Command: /home/biocbuild/R/R/bin/R CMD check --install=check:padma.install-out.txt --library=/home/biocbuild/R/R/site-library --no-vignettes --timings padma_1.17.0.tar.gz StartedAt: 2025-01-28 13:38:34 -0000 (Tue, 28 Jan 2025) EndedAt: 2025-01-28 13:46:31 -0000 (Tue, 28 Jan 2025) EllapsedTime: 476.7 seconds RetCode: 0 Status: OK CheckDir: padma.Rcheck Warnings: 0