Package: padma Version: 1.17.0 Command: /Library/Frameworks/R.framework/Resources/bin/R CMD INSTALL padma StartedAt: 2025-02-04 15:37:00 -0500 (Tue, 04 Feb 2025) EndedAt: 2025-02-04 15:37:36 -0500 (Tue, 04 Feb 2025) EllapsedTime: 36.2 seconds RetCode: 0 Status: OK