Package: padma Version: 1.17.0 Command: /home/biocbuild/bbs-3.21-bioc/R/bin/R CMD check --install=check:padma.install-out.txt --library=/home/biocbuild/bbs-3.21-bioc/R/site-library --timings padma_1.17.0.tar.gz StartedAt: 2025-02-05 01:09:20 -0500 (Wed, 05 Feb 2025) EndedAt: 2025-02-05 01:17:09 -0500 (Wed, 05 Feb 2025) EllapsedTime: 468.8 seconds RetCode: 0 Status: OK CheckDir: padma.Rcheck Warnings: 0