Package: padma Version: 1.17.0 Command: /home/biocbuild/bbs-3.21-bioc/R/bin/R CMD INSTALL padma StartedAt: 2025-02-04 15:19:42 -0500 (Tue, 04 Feb 2025) EndedAt: 2025-02-04 15:20:09 -0500 (Tue, 04 Feb 2025) EllapsedTime: 26.6 seconds RetCode: 0 Status: OK