Package: padma Version: 1.17.0 Command: chmod a+r padma -R && E:\biocbuild\bbs-3.21-bioc\R\bin\R.exe CMD build --keep-empty-dirs --no-resave-data padma StartedAt: 2025-02-12 20:39:00 -0500 (Wed, 12 Feb 2025) EndedAt: 2025-02-12 20:41:08 -0500 (Wed, 12 Feb 2025) EllapsedTime: 127.5 seconds RetCode: 0 Status: OK PackageFile: padma_1.17.0.tar.gz PackageFileSize: 947.5 KiB