Package: paircompviz Version: 1.45.0 Command: rm -rf paircompviz.buildbin-libdir && mkdir paircompviz.buildbin-libdir && /Users/biocbuild/BBS/utils/build-universal.sh paircompviz_1.45.0.tar.gz /Library/Frameworks/R.framework/Resources/bin/R paircompviz.buildbin-libdir StartedAt: 2025-02-10 01:07:27 -0500 (Mon, 10 Feb 2025) EndedAt: 2025-02-10 01:07:34 -0500 (Mon, 10 Feb 2025) EllapsedTime: 6.9 seconds RetCode: 0 Status: OK PackageFile: paircompviz_1.45.0.tgz PackageFileSize: 337.4 KiB