Package: paircompviz Version: 1.45.0 Command: /home/biocbuild/bbs-3.21-bioc/R/bin/R CMD build --keep-empty-dirs --no-resave-data paircompviz StartedAt: 2025-02-09 18:33:02 -0500 (Sun, 09 Feb 2025) EndedAt: 2025-02-09 18:33:27 -0500 (Sun, 09 Feb 2025) EllapsedTime: 25.0 seconds RetCode: 0 Status: OK PackageFile: paircompviz_1.45.0.tar.gz PackageFileSize: 354 KiB