Package: paircompviz Version: 1.45.0 Command: rm -rf paircompviz.buildbin-libdir && mkdir paircompviz.buildbin-libdir && E:\biocbuild\bbs-3.21-bioc\R\bin\R.exe CMD INSTALL --build --library=paircompviz.buildbin-libdir paircompviz_1.45.0.tar.gz StartedAt: 2025-02-10 08:20:46 -0500 (Mon, 10 Feb 2025) EndedAt: 2025-02-10 08:20:59 -0500 (Mon, 10 Feb 2025) EllapsedTime: 13.6 seconds RetCode: 0 Status: OK PackageFile: paircompviz_1.45.0.zip PackageFileSize: 342.7 KiB