Package: paircompviz Version: 1.45.0 Command: chmod a+r paircompviz -R && E:\biocbuild\bbs-3.21-bioc\R\bin\R.exe CMD build --keep-empty-dirs --no-resave-data paircompviz StartedAt: 2025-02-12 20:41:09 -0500 (Wed, 12 Feb 2025) EndedAt: 2025-02-12 20:41:50 -0500 (Wed, 12 Feb 2025) EllapsedTime: 41.3 seconds RetCode: 0 Status: OK PackageFile: paircompviz_1.45.0.tar.gz PackageFileSize: 356.4 KiB