Package: paircompviz Version: 1.45.0 Command: E:\biocbuild\bbs-3.21-bioc\R\bin\R.exe CMD INSTALL paircompviz StartedAt: 2025-02-09 15:46:11 -0500 (Sun, 09 Feb 2025) EndedAt: 2025-02-09 15:46:24 -0500 (Sun, 09 Feb 2025) EllapsedTime: 12.7 seconds RetCode: 0 Status: OK