Package: pairedGSEA Version: 1.7.0 Command: /Library/Frameworks/R.framework/Resources/bin/R CMD check --install=check:pairedGSEA.install-out.txt --library=/Library/Frameworks/R.framework/Resources/library --no-vignettes --timings pairedGSEA_1.7.0.tar.gz StartedAt: 2025-02-09 20:34:40 -0500 (Sun, 09 Feb 2025) EndedAt: 2025-02-09 20:36:58 -0500 (Sun, 09 Feb 2025) EllapsedTime: 137.7 seconds RetCode: 0 Status: OK CheckDir: pairedGSEA.Rcheck Warnings: 0