Package: pairedGSEA Version: 1.7.0 Command: /home/biocbuild/R/R/bin/R CMD check --install=check:pairedGSEA.install-out.txt --library=/home/biocbuild/R/R/site-library --no-vignettes --timings pairedGSEA_1.7.0.tar.gz StartedAt: 2025-01-28 13:39:56 -0000 (Tue, 28 Jan 2025) EndedAt: 2025-01-28 13:51:33 -0000 (Tue, 28 Jan 2025) EllapsedTime: 696.8 seconds RetCode: 0 Status: WARNINGS CheckDir: pairedGSEA.Rcheck Warnings: 5