Package: pairedGSEA Version: 1.7.0 Command: rm -rf pairedGSEA.buildbin-libdir && mkdir pairedGSEA.buildbin-libdir && /Users/biocbuild/BBS/utils/build-universal.sh pairedGSEA_1.7.0.tar.gz /Library/Frameworks/R.framework/Resources/bin/R pairedGSEA.buildbin-libdir StartedAt: 2025-02-10 01:07:27 -0500 (Mon, 10 Feb 2025) EndedAt: 2025-02-10 01:08:16 -0500 (Mon, 10 Feb 2025) EllapsedTime: 48.5 seconds RetCode: 0 Status: OK PackageFile: pairedGSEA_1.7.0.tgz PackageFileSize: 650.8 KiB