Package: pairedGSEA Version: 1.7.0 Command: /Library/Frameworks/R.framework/Resources/bin/R CMD build --keep-empty-dirs --no-resave-data pairedGSEA StartedAt: 2025-02-03 17:49:08 -0500 (Mon, 03 Feb 2025) EndedAt: 2025-02-03 17:53:06 -0500 (Mon, 03 Feb 2025) EllapsedTime: 238.2 seconds RetCode: 0 Status: OK PackageFile: pairedGSEA_1.7.0.tar.gz PackageFileSize: 604.3 KiB