Package: pairedGSEA Version: 1.7.0 Command: /Library/Frameworks/R.framework/Resources/bin/R CMD check --install=check:pairedGSEA.install-out.txt --library=/Library/Frameworks/R.framework/Resources/library --no-vignettes --timings pairedGSEA_1.7.0.tar.gz StartedAt: 2025-02-03 22:18:32 -0500 (Mon, 03 Feb 2025) EndedAt: 2025-02-03 22:27:11 -0500 (Mon, 03 Feb 2025) EllapsedTime: 519.5 seconds RetCode: 0 Status: OK CheckDir: pairedGSEA.Rcheck Warnings: 0