Package: pairedGSEA Version: 1.7.0 Command: /Library/Frameworks/R.framework/Resources/bin/R CMD INSTALL pairedGSEA StartedAt: 2025-02-09 15:37:17 -0500 (Sun, 09 Feb 2025) EndedAt: 2025-02-09 15:38:03 -0500 (Sun, 09 Feb 2025) EllapsedTime: 46.4 seconds RetCode: 0 Status: OK