Package: pairedGSEA Version: 1.7.0 Command: /home/biocbuild/bbs-3.21-bioc/R/bin/R CMD check --install=check:pairedGSEA.install-out.txt --library=/home/biocbuild/bbs-3.21-bioc/R/site-library --timings pairedGSEA_1.7.0.tar.gz StartedAt: 2025-02-10 01:05:28 -0500 (Mon, 10 Feb 2025) EndedAt: 2025-02-10 01:16:33 -0500 (Mon, 10 Feb 2025) EllapsedTime: 665.2 seconds RetCode: 0 Status: OK CheckDir: pairedGSEA.Rcheck Warnings: 0