Package: pairedGSEA Version: 1.7.0 Command: /home/biocbuild/bbs-3.21-bioc/R/bin/R CMD INSTALL pairedGSEA StartedAt: 2025-02-09 15:33:29 -0500 (Sun, 09 Feb 2025) EndedAt: 2025-02-09 15:34:03 -0500 (Sun, 09 Feb 2025) EllapsedTime: 34.2 seconds RetCode: 0 Status: OK